BEGIN:VCALENDAR
VERSION:2.0
PRODID:-//Lake Norman Marine Commission - ECPv6.15.20//NONSGML v1.0//EN
CALSCALE:GREGORIAN
METHOD:PUBLISH
X-ORIGINAL-URL:https://lnmc.org
X-WR-CALDESC:Events for Lake Norman Marine Commission
REFRESH-INTERVAL;VALUE=DURATION:PT1H
X-Robots-Tag:noindex
X-PUBLISHED-TTL:PT1H
BEGIN:VTIMEZONE
TZID:America/New_York
BEGIN:DAYLIGHT
TZOFFSETFROM:-0500
TZOFFSETTO:-0400
TZNAME:EDT
DTSTART:20200308T070000
END:DAYLIGHT
BEGIN:STANDARD
TZOFFSETFROM:-0400
TZOFFSETTO:-0500
TZNAME:EST
DTSTART:20201101T060000
END:STANDARD
BEGIN:DAYLIGHT
TZOFFSETFROM:-0500
TZOFFSETTO:-0400
TZNAME:EDT
DTSTART:20210314T070000
END:DAYLIGHT
BEGIN:STANDARD
TZOFFSETFROM:-0400
TZOFFSETTO:-0500
TZNAME:EST
DTSTART:20211107T060000
END:STANDARD
BEGIN:DAYLIGHT
TZOFFSETFROM:-0500
TZOFFSETTO:-0400
TZNAME:EDT
DTSTART:20220313T070000
END:DAYLIGHT
BEGIN:STANDARD
TZOFFSETFROM:-0400
TZOFFSETTO:-0500
TZNAME:EST
DTSTART:20221106T060000
END:STANDARD
END:VTIMEZONE
BEGIN:VEVENT
DTSTART;TZID=America/New_York:20210809T190000
DTEND;TZID=America/New_York:20210809T203000
DTSTAMP:20260420T081829
CREATED:20210727T020603Z
LAST-MODIFIED:20210809T152747Z
UID:2933-1628535600-1628541000@lnmc.org
SUMMARY:August 2021 Lake Norman Marine Commission Meeting
DESCRIPTION:Agenda-2021-August 9 \nAugust 9  meeting of the Lake Norman Marine Commission will be in person at the Charles Mack Citizens Center in Mooresville.  Meeting will start at 7pm in the Moore Room.  Anyone wishing to make a public comment during that portion of the meeting should sign up on the sheet as you enter the room.  All public comments are limited to 3 minutes.
URL:https://lnmc.org/event/august-2021-lake-norman-marine-commission-meeting/
LOCATION:Charles Mack Citizen Center\, 215 N Main St\, Mooresville\, NC\, 28115\, United States
END:VEVENT
END:VCALENDAR