BEGIN:VCALENDAR
VERSION:2.0
PRODID:-//Lake Norman Marine Commission - ECPv6.15.20//NONSGML v1.0//EN
CALSCALE:GREGORIAN
METHOD:PUBLISH
X-WR-CALNAME:Lake Norman Marine Commission
X-ORIGINAL-URL:https://lnmc.org
X-WR-CALDESC:Events for Lake Norman Marine Commission
REFRESH-INTERVAL;VALUE=DURATION:PT1H
X-Robots-Tag:noindex
X-PUBLISHED-TTL:PT1H
BEGIN:VTIMEZONE
TZID:America/New_York
BEGIN:DAYLIGHT
TZOFFSETFROM:-0500
TZOFFSETTO:-0400
TZNAME:EDT
DTSTART:20210314T070000
END:DAYLIGHT
BEGIN:STANDARD
TZOFFSETFROM:-0400
TZOFFSETTO:-0500
TZNAME:EST
DTSTART:20211107T060000
END:STANDARD
BEGIN:DAYLIGHT
TZOFFSETFROM:-0500
TZOFFSETTO:-0400
TZNAME:EDT
DTSTART:20220313T070000
END:DAYLIGHT
BEGIN:STANDARD
TZOFFSETFROM:-0400
TZOFFSETTO:-0500
TZNAME:EST
DTSTART:20221106T060000
END:STANDARD
BEGIN:DAYLIGHT
TZOFFSETFROM:-0500
TZOFFSETTO:-0400
TZNAME:EDT
DTSTART:20230312T070000
END:DAYLIGHT
BEGIN:STANDARD
TZOFFSETFROM:-0400
TZOFFSETTO:-0500
TZNAME:EST
DTSTART:20231105T060000
END:STANDARD
END:VTIMEZONE
BEGIN:VEVENT
DTSTART;TZID=America/New_York:20220509T190000
DTEND;TZID=America/New_York:20220509T203000
DTSTAMP:20260420T050648
CREATED:20220502T160227Z
LAST-MODIFIED:20220508T160229Z
UID:3012-1652122800-1652128200@lnmc.org
SUMMARY:Lake Norman Marine Commission May 2022 Monthly Meeting
DESCRIPTION:Agenda-2022- May 9th \nThe Lake Norman Marine Commission will hold it’s monthly public meeting on Monday\, May 9th at the Charles Mack Citizens Center in Mooresville beginning at 7pm in the Moore Room.  If you would like to make a public comment\, please register prior to the beginning of the meeting\, all public comments are limited to 3 minutes.
URL:https://lnmc.org/event/lake-norman-marine-commission-may-2022-monthly-meeting/
LOCATION:Charles Mack Citizen Center\, 215 N Main St\, Mooresville\, NC\, 28115\, United States
END:VEVENT
END:VCALENDAR